BEGIN:VCALENDAR
VERSION:2.0
PRODID:-//Golfclub Ravensburg - ECPv6.8.1//NONSGML v1.0//EN
CALSCALE:GREGORIAN
METHOD:PUBLISH
X-ORIGINAL-URL:https://golfclub-ravensburg.de
X-WR-CALDESC:Events for Golfclub Ravensburg
REFRESH-INTERVAL;VALUE=DURATION:PT1H
X-Robots-Tag:noindex
X-PUBLISHED-TTL:PT1H
BEGIN:VTIMEZONE
TZID:Europe/Berlin
BEGIN:DAYLIGHT
TZOFFSETFROM:+0100
TZOFFSETTO:+0200
TZNAME:CEST
DTSTART:20240331T010000
END:DAYLIGHT
BEGIN:STANDARD
TZOFFSETFROM:+0200
TZOFFSETTO:+0100
TZNAME:CET
DTSTART:20241027T010000
END:STANDARD
END:VTIMEZONE
BEGIN:VEVENT
DTSTART;VALUE=DATE:20240608
DTEND;VALUE=DATE:20240609
DTSTAMP:20260423T230248
CREATED:20240522T085707Z
LAST-MODIFIED:20241022T133028Z
UID:23259-1717804800-1717891199@golfclub-ravensburg.de
SUMMARY:Jugendmannschaftspokal: Fürstl. GC Bad Waldsee
DESCRIPTION:Termin Jugendmannschaftspokal (Gruppe 11) \nZum Turnier anmelden
URL:https://golfclub-ravensburg.de/event/jugendmannschaftspokal-furstl-gc-bad-waldsee-2/
LOCATION:Fürstliches Golf-Resort Bad Waldsee\, Hopfenweiler 9\, Bad Waldsee\, Baden-Württemberg\, 88339\, Germany
CATEGORIES:team-cup,Youth
END:VEVENT
END:VCALENDAR