BEGIN:VCALENDAR
VERSION:2.0
PRODID:-//Golfclub Ravensburg - ECPv6.8.1//NONSGML v1.0//EN
CALSCALE:GREGORIAN
METHOD:PUBLISH
X-ORIGINAL-URL:https://golfclub-ravensburg.de
X-WR-CALDESC:Events for Golfclub Ravensburg
REFRESH-INTERVAL;VALUE=DURATION:PT1H
X-Robots-Tag:noindex
X-PUBLISHED-TTL:PT1H
BEGIN:VTIMEZONE
TZID:Europe/Berlin
BEGIN:DAYLIGHT
TZOFFSETFROM:+0100
TZOFFSETTO:+0200
TZNAME:CEST
DTSTART:20250330T010000
END:DAYLIGHT
BEGIN:STANDARD
TZOFFSETFROM:+0200
TZOFFSETTO:+0100
TZNAME:CET
DTSTART:20251026T010000
END:STANDARD
END:VTIMEZONE
BEGIN:VEVENT
DTSTART;VALUE=DATE:20250521
DTEND;VALUE=DATE:20250522
DTSTAMP:20260422T102838
CREATED:20250521T100214Z
LAST-MODIFIED:20250521T155126Z
UID:23386-1747785600-1747871999@golfclub-ravensburg.de
SUMMARY:2. Herren Seniorenturnier 2025
DESCRIPTION:Herren Seniorengolf 2025 am Mittwoch\, 21.05.2025\n\n12 Teilnehmer getrauten sich zur Teilnahme am 2. Herren Seniorenturnier 2025. Die geringe Teilnehmerzahl war der Wetterprognose geschuldet. Regen und Unwetter waren vorhergesagt. Nach Rücksprache mit unserem Herren Senioren Captain Manfred Singvogel und da wir schon oft die Erfahrung gemacht haben dass das Wetter dann doch anders kommt als vorhergesagt haben wir es gewagt und das Turnier durchgeführt. Unwetter gab es keine\, einige wenige Flights bekamen einen kurzer Regenschauer ab\, aber wie jeder Golfer weiß: es gibt kein schlechtes Wetter nur die falsche Bekleidung. Insofern also Kompliment an alle die mitgespielt haben. \nHerzlichen Glückwunsch an die Gewinnerinnen und Gewinner: \nBruttowertung: Dieter Schmid \nNettowertung: \n1.) Thomas Geßler \n2.) Roland Braunschweig \n3.) Fred Ertel
URL:https://golfclub-ravensburg.de/event/schnupperturnier-4/
LOCATION:Golfclub Ravensburg\, Hofgut Okatreute\, Ravensburg / Schmalegg\, Baden-Württemberg\, 88213
CATEGORIES:cup,intro
END:VEVENT
END:VCALENDAR