BEGIN:VCALENDAR
VERSION:2.0
PRODID:-//Golfclub Ravensburg - ECPv6.8.1//NONSGML v1.0//EN
CALSCALE:GREGORIAN
METHOD:PUBLISH
X-WR-CALNAME:Golfclub Ravensburg
X-ORIGINAL-URL:https://golfclub-ravensburg.de
X-WR-CALDESC:Events for Golfclub Ravensburg
REFRESH-INTERVAL;VALUE=DURATION:PT1H
X-Robots-Tag:noindex
X-PUBLISHED-TTL:PT1H
BEGIN:VTIMEZONE
TZID:UTC
BEGIN:STANDARD
TZOFFSETFROM:+0000
TZOFFSETTO:+0000
TZNAME:UTC
DTSTART:20250101T000000
END:STANDARD
END:VTIMEZONE
BEGIN:VEVENT
DTSTART;TZID=UTC:20250402T080000
DTEND;TZID=UTC:20250402T170000
DTSTAMP:20260422T102516
CREATED:20250406T144150Z
LAST-MODIFIED:20250411T160001Z
UID:28180-1743580800-1743613200@golfclub-ravensburg.de
SUMMARY:1. 9-Loch Turnier gesponsort von Golfschule Martina Engel
DESCRIPTION:1. 9-Loch Turnier 2025 Golfschule Engel \nTurnierauftakt 2025: traditionell mit dem Turnier unserer Headproette Martina Engel. Ein 9-Loch Turnier genau richtig um wieder “rein zu kommen” Die Teilnehmerzahl war wie immer bei den Turniere von Martina groß und die Vorfreude riesig. Der Platz ist angemessen der Jahreszeit bereits in einem guten Zustand und das Wetter hat auch mitgemacht. \nSo kann es gerne in dieser Saison weitergehen!!! \nDie Teilnehmerinnen und Teilnehmer haben einen ersten Eindruck bekommen\, wo Sie spielerisch stehen und woran sie noch arbeiten müssen. Der Rest war Spaß und gute Laune\, vor allem als man sich im Lala´s Restaurant am Golfplatz zur Siegerehrung und gemütlichen Miteinander traf.  \n \n               
URL:https://golfclub-ravensburg.de/event/1-9-loch-turnier-gesponsort-von-golfschule-martina-engel/
LOCATION:Baden-Württemberg
CATEGORIES:9-hole,cup,turniere
END:VEVENT
BEGIN:VEVENT
DTSTART;TZID=UTC:20250411T080000
DTEND;TZID=UTC:20250411T170000
DTSTAMP:20260422T102516
CREATED:20250411T075940Z
LAST-MODIFIED:20250414T120207Z
UID:28196-1744358400-1744390800@golfclub-ravensburg.de
SUMMARY:Osterturnier 2025 gesponsort von Prokschi Immobilien
DESCRIPTION:Video: \n\nhttps://golfclub-ravensburg.de/wp-content/uploads/2025/04/DSCN3842.mp4\n  \nGemischtes Damen und Herrenturnier „Osterturnier“ gesponsort von  Prokschi Immobilien  \nAm 11.04.2025 war es endlich soweit. Die heißersehnte neue Freitags Turnierserie des gemeinsamen Damen und Herrengolfs ging an den Start.Das ausgebuchte Turnier stimmte Präsident Michael Schubert und Men´s Captain Sascha Denner sehr zufrieden. Das perfekte Frühlingswetter und der gute Pflegezustand des Platzes trugen ebenfalls zur guten Stimmung bei.  \n Die Teilnehmerinnen und Teilnehmer konnten wählen ob Sie 9- oder 18-Loch spielen wollten. Empfangen wurden die Teilnehmer mit einem attraktiven Teegeschenk\, nach der Runde konnten die Teilnehmer die neue Lounge genießen mit Blick auf die eintreffenden Flights. Nach Rückkehr aller Teilnehmer eröffnete Präsident Michael Schubert das leckere Büffet vom Lala´s Restaurant am Golfplatz bei dem ausschließlich saisonale und regionale Produkte verwendet wurden.  \nDie Siegerehrung wurde von unserem Präsidenten\, Men´s Captain Sascha Denner sowie dem Sponsor des Turniers Prokschi Immobilien vorgenommen. Sichtlich stolz und mit ihrer Leistung zufrieden nahmen die Gewinnerinnen und Gewinner die hochwertigen Turnierpreise entgehen.  \n Unser Dank gilt dem Sponsor des Turniers Stephan Prokschi und seinem ganzen Team\, die sich bereits seit einigen Jahren mit Werbung auf unserem Platz präsentieren und sich nun auch im Turniersport engagieren.   \nHerzlichen Dank für dieses tolle Engagement und die gute Zusammenarbeit. \nDie Gewinner und Gewinnerinnen unseres Osterturniers gesponsert von Prokschi Immobilien:  \n18-Loch Turnier: \nBrutto männlich: Jan Repka    \nBrutto weiblich: Leonie Wolber  \nNettowertung:    \n\nSimon Heyen \nMarc Speth \nEric Thiel \n\n             9-Loch Turnier:  \n            1.) Sven Kirchberg \n            2.)  Dorothea Frommlet  \n            3.)  Marwin Laumann  \n           Sonderwertungen: \n            Longest Drive männlich: Christopher Repka  \n            Longest Drive weiblich: Dr. Vera Oberle  \n            Nearest to the Pin männlich: Tim Pfeiffer  \n            Nearest to the Pin weiblich: Sonja Bopp  \n  \n  \n 
URL:https://golfclub-ravensburg.de/event/osterturnier-2025-gesponsort-von-prokschi-immobilien/
LOCATION:Baden-Württemberg
CATEGORIES:cup
END:VEVENT
END:VCALENDAR