BEGIN:VCALENDAR
VERSION:2.0
PRODID:-//Golfclub Ravensburg - ECPv6.8.1//NONSGML v1.0//EN
CALSCALE:GREGORIAN
METHOD:PUBLISH
X-ORIGINAL-URL:https://golfclub-ravensburg.de
X-WR-CALDESC:Events for Golfclub Ravensburg
REFRESH-INTERVAL;VALUE=DURATION:PT1H
X-Robots-Tag:noindex
X-PUBLISHED-TTL:PT1H
BEGIN:VTIMEZONE
TZID:Europe/Berlin
BEGIN:DAYLIGHT
TZOFFSETFROM:+0100
TZOFFSETTO:+0200
TZNAME:CEST
DTSTART:20240331T010000
END:DAYLIGHT
BEGIN:STANDARD
TZOFFSETFROM:+0200
TZOFFSETTO:+0100
TZNAME:CET
DTSTART:20241027T010000
END:STANDARD
END:VTIMEZONE
BEGIN:VEVENT
DTSTART;VALUE=DATE:20240505
DTEND;VALUE=DATE:20240506
DTSTAMP:20260423T034704
CREATED:20240527T161938Z
LAST-MODIFIED:20241022T133243Z
UID:23649-1714867200-1714953599@golfclub-ravensburg.de
SUMMARY:19. Golfrallye des Golfverbandes Liechtenstein
DESCRIPTION:Wie bereits seit 19 Jahren ist das Turnier des Golfverbandes Liechtenstein ein Turnier unter Freunden. Man kennt und schätzt sich und natürlich spielt man am liebsten zusammen Golf. \nDamit die teils weiten Anfahrten der Gäste entspannt verlaufen\, wird vor dem Turnier im Lala´s Restaurant am Golfplatz ein Frühstück angeboten mit Kaffee und „Gipfeli“. Nach dem Turnier wird der Abend mit einem Apero eingeläutet. Danach erfolgt die Siegerehrung und ein sehr leckeres Abendessen mit guten Gesprächen in einer fröhlichen Runde.\n \nDer  Präsident des GC Ravensburg Michael Schubert zeigte sich in seiner Rede sehr dankbar für die lange und freundschaftliche Verbundenheit  zum Golfverband Liechtenstein. \nEin sehr herzliches Dankeschön geht an den Generalsekretär des Golfverbandes Thomas Schaber für die\, wie immer\,  perfekte Organisation und den reibungslosen Ablauf. \nAuch bei diesem Turnier blieben keine Wünsche offen: Begrüßungsfrühstück\, Apero\, leckeres Essen\, gute Weine und hochwertige Turnierpreise.   \nGanz lieben Dank an Renata Schaber und Dan die als Starter alle Turnierteilnehmerinnen und Teilnehmer gut informiert auf die Runde geschickt haben.   \n  \nWir gratulieren den Gewinnerinnen und Gewinner der 19. Golfrallye des GV Liechtenstein:   \nBrutto Damen:  Barbara Keel\, GC Gams-Werdenberg\nBrutto Herren:   Haimo Haas\, GC Gams-Werdenberg    \nNettowertung Klasse A: \n\nLeonie Wolber\, GC Ravensburg\nDr. Vera Oberle\, GC Ravensburg\nFrank Aschentrup\, GC Senne\n\nNettowertung Klasse B: \n\nAndrea-Anna Walser\, GC Gams-Werdenberg\nPatrick Bösch\, GC Montfort Rankweil\nJohann Hoffmann\, GC Ravensburg  \n\nNettowertung Klasse C: \n\nStefan Schöll\, GC Ravensburg\nPatrick Mayer\, GC Ravensburg\nAnton Loser\, GC Montfort Rankweil\n\nLongest Drive Damen: Barbara Keel\, GC Gams-Werdenberg\nLongest Drive Herren: Iwan Bürge\, GC Gams-Werdenberg    \nNearest to the Pin Damen: Nicole Bergenroth\, GP Mühlenhof\nNearest to the Pin Herren: Merlin Noack\, GC Ravensburg \nWir freuen uns auf Euer nächstes Turnier in 2025.  \nZum Turnier anmelden
URL:https://golfclub-ravensburg.de/event/19-golfrallye-des-golfverbandes-liechtenstein/
LOCATION:Golfclub Ravensburg\, Hofgut Okatreute\, Ravensburg / Schmalegg\, Baden-Württemberg\, 88213
CATEGORIES:18-hole,cup
ATTACH;FMTTYPE=image/jpeg:https://golfclub-ravensburg.de/wp-content/uploads/2024/05/438118871_1145302073577591_22038362163934043_n.jpg
END:VEVENT
BEGIN:VEVENT
DTSTART;VALUE=DATE:20240512
DTEND;VALUE=DATE:20240513
DTSTAMP:20260423T034704
CREATED:20240527T114153Z
LAST-MODIFIED:20241022T133230Z
UID:23592-1715472000-1715558399@golfclub-ravensburg.de
SUMMARY:AUDI Bauschatz Cup
DESCRIPTION:Schon bei der Veröffentlichung unseres diesjährigen Turnierkalenders war das Interesse für den 1. AUDI Bauschatz Cup 2024 geweckt.   \nDie Meldeliste füllte sich schnell mit Mitgliedern des GC Ravensburg und Gästen aus anderen Clubs.  Dazu trug auch der gelbe Audi A 1 bei\, der schon geraumer Zeit an Tee 1 stand und den es als HOLE IN ONE zu gewinnen gab. \nDie Turnierteilnehmerinnen und Teilnehmer wurden den ganzen Tag verwöhnt:  Ballpyramiden\, Frühstück auf der Terrasse\, Teegeschenke\, Weißwürste bei der Zwischenverpflegung\, ein leckeres Abendessen und hochwertige Turnierpreise. \nDen Hole in one Preis hat leider niemand gewonnen\, aber wer weiß\, vielleicht gibtes im nächsten Jahr wieder eine Chance.      \nUnsere Vizepräsidentin Nina Sophie Clemens dankte Familie Bauschatz und dem ganzen Bauschatz Team allen voran Pascal Pickard für die tolle Turniervorbereitung\, Organisation und Durchführung. Unsere Mitglieder und Gäste waren restlos begeistert. Wir würden uns freuen auch im nächsten Jahr dieses großartige Turnier wieder durchführen zu dürfen. \nVielen herzlichen Dank! \nBrutto Damen:    Leonie Wolber\nBrutto Herren:    Thomas Huser\, Ostschweizer Golfclub Niederbüren   \nNettowertung Klasse A: \n\nJan Repka\nDavid Muschal\nHansjörg Obergfell  \n\nNettowertung Klasse B: \n\nHans Sicka\nGeorg Kischka\nMerlin Noack   \n\nNettowertung Klasse C: \n\nMatthias Welte\nLars Schweikart\nAlexander Möller\n\nNearest to the Pin: Patrick Mayer\, Anke Daniker  \nNettopreis Jugend: Henry Clemens \nZum Turnier anmelden
URL:https://golfclub-ravensburg.de/event/audi-bauschatz-cup/
LOCATION:Golfclub Ravensburg\, Hofgut Okatreute\, Ravensburg / Schmalegg\, Baden-Württemberg\, 88213
CATEGORIES:18-hole,cup
END:VEVENT
BEGIN:VEVENT
DTSTART;VALUE=DATE:20240515
DTEND;VALUE=DATE:20240516
DTSTAMP:20260423T034704
CREATED:20240527T120057Z
LAST-MODIFIED:20241022T133156Z
UID:23641-1715731200-1715817599@golfclub-ravensburg.de
SUMMARY:Auftakt unserer Golfdamen
DESCRIPTION:Herzlichen Glückwunsch an: \nSonja Bopp (Bruttopreis)\nEva Pflaumer (Nettopreis Klasse A)\nGundrum Hörzer (Nettorpeis Klasse B)\nGabi Wahl (9-Loch Turnier)  \nDanke an Ladie´s Captain Anke Daniker (2. v.l) die wie immer einen tollen Job macht!!!   \nZum Turnier anmelden
URL:https://golfclub-ravensburg.de/event/auftakt-unserer-golfdamen/
LOCATION:Golfclub Ravensburg\, Hofgut Okatreute\, Ravensburg / Schmalegg\, Baden-Württemberg\, 88213
CATEGORIES:18-hole,cup
ATTACH;FMTTYPE=image/jpeg:https://golfclub-ravensburg.de/wp-content/uploads/2024/05/teaserbox_30460699.jpg
END:VEVENT
BEGIN:VEVENT
DTSTART;VALUE=DATE:20240516
DTEND;VALUE=DATE:20240517
DTSTAMP:20260423T034704
CREATED:20240527T113145Z
LAST-MODIFIED:20241022T133144Z
UID:23579-1715817600-1715903999@golfclub-ravensburg.de
SUMMARY:Liga Heimspiel der Herrenmannschaft AK 65
DESCRIPTION:Die Herrenmannschaft des GC Ravensburg freute sich die 5 anderen Mannschaften in Ravensburg begrüßen zu dürfen. \n\n\n\n\nDer Wettergott hat es sehr gut gemeint mit den Herrenmannschaften AK 65 beim 1. Ligaspiel im GC Ravensburg. Kaum war der letzte Flight im Haus brach ein Gewitter mit Platzregen aus. Den Teilnehmern konnte es egal sein\, sie waren alle im Trockenen\, genoßen das gemeinsame Essen und danach die Siegerehrung von Roland Braunschweig\, dem Captain unserer Herrenmannschaft AK 65.  \nDie Ergebnisliste der Teamwertung: \n\nGC Schloss Weitenburg\nGC Domäne Niederreutin\nGC Ravensburg\nGC Hochstatt Härtsfeld-Ries\nGC Reutlingen-Sonnenbühl\nGC Teck\n\n\n   \nAuftakt unserer Golfdamen!  \n  \nHerzlichen Glückwunsch an: \nSonja Bopp (Bruttopreis)\nEva Pflaumer (Nettopreis Klasse A)\nGundrum Hörzer (Nettorpeis Klasse B)\nGabi Wahl (9-Loch Turnier)  \nDanke an Ladie´s Captain Anke Daniker (2. v.l) die wie immer einen tollen Job macht!!!   \nZum Turnier anmelden
URL:https://golfclub-ravensburg.de/event/liga-heimspiel-der-herrenmannschaft-ak-65/
LOCATION:Golfclub Ravensburg\, Hofgut Okatreute\, Ravensburg / Schmalegg\, Baden-Württemberg\, 88213
CATEGORIES:cup
ATTACH;FMTTYPE=image/jpeg:https://golfclub-ravensburg.de/wp-content/uploads/2024/05/teaserbox_30460695.jpg
END:VEVENT
BEGIN:VEVENT
DTSTART;VALUE=DATE:20240524
DTEND;VALUE=DATE:20240525
DTSTAMP:20260423T034704
CREATED:20240527T105315Z
LAST-MODIFIED:20241022T133106Z
UID:23559-1716508800-1716595199@golfclub-ravensburg.de
SUMMARY:9-Loch Turnier
DESCRIPTION:Am gestrigen Freitag fand das 2. 9-Loch Turnier 2024 statt. Bei vorerst sonnigem Wetter und milden Temperaturen\, boten die Bedingungen perfekte Voraussetzungen für ein aufregendes Turnier.  Auch ein aufziehendes Gewitter konnte\, die gute Laune und Spielfreude der Teilnehmer nicht bremsen und so wurden sehr gute Ergebnisse erzielt. \nHerzlichen Glückwunsch an alle Gewinner! \n\nBrutto          Patrick Mayer\n\n\nNetto           Lars Schweikart\nNetto           Michael Nachbaur\nNetto           Florian Wassner\n\nDie Damenwertung ging an Leonie Wolber. \nZum Turnier anmelden
URL:https://golfclub-ravensburg.de/event/9-loch-turnier/
LOCATION:Golfclub Ravensburg\, Hofgut Okatreute\, Ravensburg / Schmalegg\, Baden-Württemberg\, 88213
CATEGORIES:9-hole,cup
ATTACH;FMTTYPE=image/jpeg:https://golfclub-ravensburg.de/wp-content/uploads/2024/05/teaserbox_30484495.jpg
END:VEVENT
BEGIN:VEVENT
DTSTART;VALUE=DATE:20240526
DTEND;VALUE=DATE:20240527
DTSTAMP:20260423T034704
CREATED:20240523T100022Z
LAST-MODIFIED:20241022T133040Z
UID:23380-1716681600-1716767999@golfclub-ravensburg.de
SUMMARY:Schnupperturnier
DESCRIPTION:Zum Turnier anmelden
URL:https://golfclub-ravensburg.de/event/schnupperturnier/
LOCATION:Golfclub Ravensburg\, Hofgut Okatreute\, Ravensburg / Schmalegg\, Baden-Württemberg\, 88213
CATEGORIES:cup,intro
END:VEVENT
END:VCALENDAR